BEGIN:VCALENDAR
VERSION:2.0
PRODID:-//Tukios.com/
BEGIN:VEVENT
UID:287e9a38-939f-456d-b842-687419ba6878@www.mciverfuneralhome.com
DTSTAMP:20260424T050312Z
DTSTART:20260425T190000Z
DTEND:20260425T200000Z
SUMMARY:Williams Service
DESCRIPTION:Celebration of Life
Saturday, April 25, 2026
3:00pm
Move 
	of God Deliverance Center
Douglas, Georgia 31535
URL:https://www.mciverfuneralhome.com/obituaries/bonnie-williams
LOCATION: 121 Pinecrest Drive  Douglas GA 31535
GEO:31.4792608;-82.8490595
END:VEVENT
END:VCALENDAR