BEGIN:VCALENDAR
VERSION:2.0
PRODID:-//Tukios.com/
BEGIN:VEVENT
UID:fcc7e685-73d5-4d8e-a96e-7d1a5621fab8@www.mciverfuneralhome.com
DTSTAMP:20260422T062208Z
DTSTART:20260425T150000Z
DTEND:20260425T160000Z
SUMMARY:Funeral Service
DESCRIPTION:Homegoing Celebration
Saturday, April 25, 2026
11:00 
	a.m.
Young’s Chapel Missionary Baptist Church
Douglas, Georgia
URL:https://www.mciverfuneralhome.com/obituaries/mr-edgar-johnson-sr
LOCATION: 710 Shirley Avenue  Douglas GA 31533
GEO:31.5024308;-82.8613218
END:VEVENT
END:VCALENDAR