BEGIN:VCALENDAR
VERSION:2.0
PRODID:-//Tukios.com/
BEGIN:VEVENT
UID:32fb0f5e-b024-4614-9f9a-da8694b021e5@www.mciverfuneralhome.com
DTSTAMP:20260422T061346Z
DTSTART:20260425
SUMMARY:Interment
DESCRIPTION:
URL:https://www.mciverfuneralhome.com/obituaries/mr-edgar-johnson-sr
LOCATION: Crossroad Church Road  Pearson GA 31642
GEO:31.3571629;-82.9104347
END:VEVENT
END:VCALENDAR